Workbook

Sheet SAŽETAK
A1: FINANCIJSKI PLAN TEHNIČKE ŠKOLE KARLOVAC ZA 2027. I PROJEKCIJA ZA 2028. I 2029. GODINU
A3: I. OPĆI DIO
A5: A) SAŽETAK RAČUNA PRIHODA I RASHODA
F7: Ostvarenje 2025. | G7: Plan 2026. | H7: Plan 2027. | I7: Projekcija 2028. | J7: Projekcija 2029.
A8: PRIHODI UKUPNO | F8: =SUM(F9:F10) -> 3428493.5 | G8: =SUM(G9:G10) -> 5927695 | H8: =SUM(H9:H10) -> 4099549 | I8: =SUM(I9:I10) -> 3963136 | J8: =SUM(J9:J10) -> 3963136
A9: PRIHODI POSLOVANJA | F9: 3428493.5 | G9: 5927395 | H9: 4089249 | I9: 3952836 | J9: 3952836
A10: PRIHODI OD PRODAJE NEFINANCIJSKE IMOVINE | F10: 0 | G10: 300 | H10: 10300 | I10: 10300 | J10: 10300
A11: RASHODI UKUPNO | F11: =F13+F12 -> 3918427.8 | G11: =G13+G12 -> 6053295 | H11: =H13+H12 -> 4230136 | I11: =I13+I12 -> 3963136 | J11: =J13+J12 -> 3963136
A12: RASHODI POSLOVANJA | F12: 3804374.5 | G12: 4013616 | H12: 3776957 | I12: 3776957 | J12: 3776957
A13: RASHODI ZA NABAVU NEFINANCIJSKE IMOVINE | F13: 114053.25 | G13: 2039679 | H13: 453179 | I13: 186179 | J13: 186179
A14: RAZLIKA - VIŠAK / MANJAK | F14: =SUM(F8-F11) -> -489934.26 | G14: =SUM(G8-G11) -> -125600 | H14: =SUM(H8-H11) -> -130587 | I14: =SUM(I8-I11) -> 0 | J14: =SUM(J8-J11) -> 0
A16: B) SAŽETAK RAČUNA FINANCIRANJA
F18: Ostvarenje 2025. | G18: Plan 2026. | H18: Plan 2027. | I18: Projekcija 2028. | J18: Projekcija 2029.
A19: PRIMICI OD FINANCIJSKE IMOVINE I ZADUŽIVANJA | F19: 0 | G19: 0 | H19: 0 | I19: 0 | J19: 0
A20: IZDACI ZA FINANCIJSKU IMOVINU I OTPLATE ZAJMOVA | F20: 0 | G20: 0 | H20: 0 | I20: 0 | J20: 0
A21: NETO FINANCIRANJE | F21: 0 | G21: 0 | H21: 0 | I21: 0 | J21: 0
A23: C) PRENESENI VIŠAK ILI PRENESENI MANJAK I VIŠEGODIŠNJI PLAN URAVNOTEŽENJA
F25: Ostvarenje 2025. | G25: Plan 2026. | H25: Plan 2027. | I25: Projekcija 2028. | J25: Projekcija 2029.
A26: UKUPAN DONOS VIŠKA / MANJKA IZ PRETHODNE(IH) GODINE*** | H26: 130587
A27: VIŠAK / MANJAK IZ PRETHODNE(IH) GODINE KOJI ĆE SE RASPOREDITI / POKRITI | F27: 489934.26 | G27: 125600 | H27: 0 | I27: 0 | J27: 0

Sheet Račun prihoda i rashoda
B1: FINANCIJSKI PLAN TEHNIČKE ŠKOLE KARLOVAC ZA 2027. I PROJEKCIJA ZA 2028. I 2029. GODINU
B2: I. OPĆI DIO
B3: PRIHODI I RASHODI PREMA EKONOMSKOJ KLASIFIKACIJI
B5: Ostvarenje 2025. | C5: Plan 2026. | D5: Plan 2027. | E5: Projekcija 2028. | F5: Projekcija 2029.
A6: A. RAČUN PRIHODA I RASHODA
A7: 6 Prihodi poslovanja | B7: 3428493.5 | C7: 5927395 | D7: 4089249 | E7: 3952836 | F7: 3952836
A8: 63 Pomoći iz inozemstva i od subjekata unutar općeg proračuna | B8: 2846654.1 | C8: 5135125 | D8: 3136838 | E8: 2985425 | F8: 2985425
A9: 636 Pomoći proračunskim korisnicima iz proračuna koji im nije nadležan | B9: 2571649.8 | C9: 3286425 | D9: 2943425
A10: 638 Pomoći temeljem prijenosa EU sredstava | B10: 275004.24 | C10: 1848700 | D10: 193413
A11: 64 Prihodi od imovine | B11: 134.21 | C11: 700 | D11: 1200 | E11: 1200 | F11: 1200
A12: 641 Prihodi od financijske imovine | B12: 134.21 | C12: 700 | D12: 1200
A13: 65 Prihodi od upravnih i administrativnih pristojbi, pristojbi po posebnim propisima i naknada | B13: 3599.67 | C13: 10600
A14: 652 Prihodi po posebnim propisima | B14: 3599.67 | C14: 10600
A15: 66 Prihodi od prodaje proizvoda i robe te pruženih usluga i prihodi od donacija te povrati po protestiranim jamstvima | B15: 300122.35 | C15: 404700 | D15: 443100 | E15: 543100 | F15: 543100 | M15: A
A16: 661 Prihodi od prodaje proizvoda i robe te pruženih usluga | B16: 300122.35 | C16: 400000 | D16: 442400
A17: 663 Donacije od pravnih i fizičkih osoba izvan općeg proračuna i povrat donacija po protestiranim jamstvima | C17: 4700 | D17: 700
A18: 67 Prihodi iz nadležnog proračuna i od HZZO-a temeljem ugovornih obveza | B18: 274247.56 | C18: 350270 | D18: 433111 | E18: 348111 | F18: 348111
A19: 671 Prihodi iz nadležnog proračuna za financiranje redovne djelatnosti proračunskih korisnika | B19: 274247.56 | C19: 350270 | D19: 433111
A20: 68 Kazne, upravne mjere i ostali prihodi | B20: 3735.66 | C20: 26000 | D20: 75000 | E20: 75000 | F20: 75000
A21: 683 Ostali prihodi | B21: 3735.66 | C21: 26000 | D21: 75000
A22: 7 Prihodi od prodaje nefinancijske imovine | C22: 300 | D22: 10300 | E22: 10300 | F22: 10300
A23: 72 Prihodi od prodaje proizvedene dugotrajne imovine | C23: 300 | D23: 10300 | E23: 10300 | F23: 10300
A24: 721 Prihodi od prodaje građevinskih objekata | C24: 300 | D24: 300
A25: 722 Prihodi od prodaje postrojenja i opreme | D25: 10000
A26: SVEUKUPNO PRIHODI | B26: 3428493.5 | C26: 5927695 | D26: 4099549 | E26: 3963136 | F26: 3963136
A27: 3 Rashodi poslovanja | B27: 3804374.5 | C27: 4013616 | D27: 3776957 | E27: 3776957 | F27: 3776957
A28: 31 Rashodi za zaposlene | B28: 2844804.5 | C28: 3010140 | D28: 3061047 | E28: 3061047 | F28: 3061047
A29: 311 Plaće (Bruto) | B29: 2351622.3 | C29: 2478200 | D29: 2520232
A30: 312 Ostali rashodi za zaposlene | B30: 105163.15 | C30: 123400 | D30: 124900
A31: 313 Doprinosi na plaće | B31: 388019.06 | C31: 408540 | D31: 415915
A32: 32 Materijalni rashodi | B32: 388191.32 | C32: 644340 | D32: 707574 | E32: 707574 | F32: 707574
A33: 321 Naknade troškova zaposlenima | B33: 87595.04 | C33: 114249 | D33: 93745
A34: 322 Rashodi za materijal i energiju | B34: 130360.52 | C34: 199439 | D34: 190800
A35: 323 Rashodi za usluge | B35: 120269.15 | C35: 210450 | D35: 327480
A36: 324 Naknade troškova osobama izvan radnog odnosa | B36: 10150 | C36: 45500 | D36: 11500
A37: 329 Ostali nespomenuti rashodi poslovanja | B37: 39816.61 | C37: 74702 | D37: 84049
A38: 34 Financijski rashodi | B38: 1197.31 | C38: 6001 | D38: 5201 | E38: 5201 | F38: 5201
A39: 343 Ostali financijski rashodi | B39: 1197.31 | C39: 6001 | D39: 5201
A40: 35 Subvencije | B40: 8998.51
A41: 353 Subvencije trgovačkim društvima, zadrugama, poljoprivrednicima i obrtnicima iz EU sredstava | B41: 8998.51
A42: 36 Pomoći dane u inozemstvo i unutar općeg proračuna | B42: 559948.32 | C42: 350000
A43: 368 POMOĆI TEMELJEM PRIJENOSA EU SREDSTAVA | B43: 559948.32 | C43: 350000
A44: 37 Naknade građanima i kućanstvima na temelju osiguranja i druge naknade | B44: 1099.52 | C44: 3000 | D44: 3000 | E44: 3000 | F44: 3000
A45: 372 Ostale naknade građanima i kućanstvima iz proračuna | B45: 1099.52 | C45: 3000 | D45: 3000
A46: 38 Ostali rashodi | B46: 135 | C46: 135 | D46: 135 | E46: 135 | F46: 135
A47: 381 Tekuće donacije | B47: 135 | C47: 135 | D47: 135
A48: 4 Rashodi za nabavu nefinancijske imovine | B48: 114053.25 | C48: 2039679 | D48: 453179 | E48: 186179 | F48: 186179
A49: 42 Rashodi za nabavu proizvedene dugotrajne imovine | B49: 111740.75 | C49: 159679 | D49: 186179 | E49: 116179 | F49: 116179
A50: 421 Građevinski objekti | B50: 2000 | C50: 50000 | D50: 70000
A51: 422 Postrojenja i oprema | B51: 107921.14 | C51: 106000 | D51: 113000
A52: 424 Knjige, umjetnička djela i ostale izložbene vrijednosti | B52: 1819.61 | C52: 3679 | D52: 3179
A53: 45 Rashodi za dodatna ulaganja na nefinancijskoj imovini | B53: 2312.5 | C53: 1880000 | D53: 267000 | E53: 70000 | F53: 70000
A54: 451 Dodatna ulaganja na građevinskim objektima | B54: 2312.5 | C54: 1880000 | D54: 267000
A55: SVEUKUPNO RASHODI | B55: 3918427.8 | C55: 6053295 | D55: 4230136 | E55: 3963136 | F55: 3963136

Sheet Prihodi i rashodi po izvorima
B1: FINANCIJSKI PLAN TEHNIČKE ŠKOLE KARLOVAC ZA 2027. I PROJEKCIJA ZA 2028. I 2029. GODINU
B2: I. OPĆI DIO
B3: PRIHODI I RASHODI PREMA IZVORIMA FINANCIRANJA
B5: Ostvarenje 2025. | C5: Plan 2026. | D5: Plan 2027. | E5: Projekcija 2028. | F5: Projekcija 2029.
A6: A. RAČUN PRIHODA I RASHODA
A7: 6 Prihodi poslovanja | B7: 3428493.5 | C7: 5927395 | D7: 4089249 | E7: 3952836 | F7: 3952836
A8: 63 Pomoći iz inozemstva i od subjekata unutar općeg proračuna | B8: 2846654.1 | C8: 5135125 | D8: 3136838 | E8: 2985425 | F8: 2985425
A9: 636 Pomoći proračunskim korisnicima iz proračuna koji im nije nadležan | B9: 2571649.8 | C9: 3286425 | D9: 2943425
A10: 50114 Pomoći iz državnog proračuna kroz opće prihode i primitke - korisnici | C10: 367425 | D10: 24425
A11: 50115 Pomoći iz državnog proračuna kroz opće prihode i primitke - plaće OŠ i SŠ | B11: 2568687.8 | C11: 2919000 | D11: 2919000
A12: 503 POMOĆI IZ NENADLEŽNIH PRORAČUNA - KORISNICI | B12: 2962.06
A13: 638 Pomoći temeljem prijenosa EU sredstava | B13: 275004.24 | C13: 1848700 | D13: 193413
A14: 510 Programi Unije | C14: 33700 | D14: 11413
A15: 56 Fondovi EU-a | B15: 275004.24
A16: 581 Nacionalni plan oporavka i otpornosti – Mehanizam za oporavak i otpornost (bespovratna sredstva) | C16: 1815000 | D16: 182000
A17: 64 Prihodi od imovine | B17: 134.21 | C17: 700 | D17: 1200 | E17: 1200 | F17: 1200
A18: 641 Prihodi od financijske imovine | B18: 134.21 | C18: 700 | D18: 1200
A19: 31 Vlastiti prihodi | B19: 134.21 | C19: 700 | D19: 1200
A20: 65 Prihodi od upravnih i administrativnih pristojbi, pristojbi po posebnim propisima i naknada | B20: 3599.67 | C20: 10600
A21: 652 Prihodi po posebnim propisima | B21: 3599.67 | C21: 10600
A22: 31 Vlastiti prihodi | B22: 3599.67 | C22: 10600
A23: 66 Prihodi od prodaje proizvoda i robe te pruženih usluga i prihodi od donacija te povrati po protestiranim jamstvima | B23: 300122.35 | C23: 404700 | D23: 443100 | E23: 543100 | F23: 543100
A24: 661 Prihodi od prodaje proizvoda i robe te pruženih usluga | B24: 300122.35 | C24: 400000 | D24: 442400
A25: 31 Vlastiti prihodi | B25: 300122.35 | C25: 400000 | D25: 442400
A26: 663 Donacije od pravnih i fizičkih osoba izvan općeg proračuna i povrat donacija po protestiranim jamstvima | C26: 4700 | D26: 700
A27: 611 Donacije | C27: 4700 | D27: 700
A28: 67 Prihodi iz nadležnog proračuna i od HZZO-a temeljem ugovornih obveza | B28: 274247.56 | C28: 350270 | D28: 433111 | E28: 348111 | F28: 348111
A29: 671 Prihodi iz nadležnog proračuna za financiranje redovne djelatnosti proračunskih korisnika | B29: 274247.56 | C29: 350270 | D29: 433.111,00,
A30: 11 Opći prihodi i primici | B30: 91239.35 | C30: 99890 | D30: 154431
A31: 501122 Pomoći iz državnog proračuna kroz opće prihode i primitke - DEC SŠ | C31: 250380 | D31: 260380
A32: 5012 Pomoći kroz nacionalno sufinanciranje EU projekta | D32: 2742
A33: 561 Europski socijalni fond | D33: 15558
A34: 68 Kazne, upravne mjere i ostali prihodi | B34: 3735.66 | C34: 26000 | D34: 75000 | E34: 75000 | F34: 75000
A35: 683 Ostali prihodi | B35: 3735.66 | C35: 26000 | D35: 75000
A36: 31 Vlastiti prihodi | B36: 3735.66 | C36: 26000 | D36: 75000
A37: 7 Prihodi od prodaje nefinancijske imovine | C37: 300 | D37: 10300 | E37: 10300 | F37: 10300
A38: 72 Prihodi od prodaje proizvedene dugotrajne imovine | C38: 300 | D38: 10300 | E38: 10300 | F38: 10300
A39: 721 Prihodi od prodaje građevinskih objekata | C39: 300 | D39: 300
A40: 722 Prihodi od prodaje postrojenja i opreme | D40: 10000
A41: 711 Prihodi od nefinancijske imovine i nadoknade štete s osnova osiguranja | D41: 10300
A42: SVEUKUPNO PRIHODI | B42: 3428493.5 | C42: 5927695 | D42: ='Račun prihoda i rashoda'!D26 -> 4099549 | E42: ='Račun prihoda i rashoda'!E26 -> 3963136 | F42: ='Račun prihoda i rashoda'!F26 -> 3963136
A43: 3 Rashodi poslovanja | B43: 3804374.5 | C43: 4013616 | D43: 3776957 | E43: 3776957 | F43: 3776957
A44: 31 Rashodi za zaposlene | B44: 2844804.5 | C44: 3010140 | D44: 3061047 | E44: 3061047 | F44: 3061047
A45: 311 Plaće (Bruto) | B45: 2351622.3 | C45: 2478200 | D45: 2520232
A46: 11 Opći prihodi i primici | C46: 16000 | D46: 43422
A47: 31 Vlastiti prihodi | B47: 53165.48 | C47: 60000 | D47: 60000
A48: 50114 Pomoći iz državnog proračuna kroz opće prihode i primitke - korisnici | C48: 2200 | D48: 2200
A49: 50115 Pomoći iz državnog proračuna kroz opće prihode i primitke - plaće OŠ i SŠ | B49: 2298456.9 | C49: 2400000 | D49: 2400000
A50: 5012 Pomoći kroz nacionalno sufinanciranje EU projekta | D50: 2190
A51: 561 Europski socijalni fond | D51: 12420
A52: 312 Ostali rashodi za zaposlene | B52: 105163.15 | C52: 123400 | D52: 124900
A53: 11 Opći prihodi i primici | C53: 400 | D53: 1100
A54: 31 Vlastiti prihodi | B54: 10722.41 | C54: 20000 | D54: 20000
A55: 50114 Pomoći iz državnog proračuna kroz opće prihode i primitke - korisnici | C55: 3000 | D55: 3000
A56: 50115 Pomoći iz državnog proračuna kroz opće prihode i primitke - plaće OŠ i SŠ | B56: 94440.74 | C56: 100000 | D56: 100000
A57: 5012 Pomoći kroz nacionalno sufinanciranje EU projekta | D57: 120
A58: 561 Europski socijalni fond | D58: 680
A59: 313 Doprinosi na plaće | B59: 388019.06 | C59: 408540 | D59: 415915
A60: 11 Opći prihodi i primici | C60: 2200 | D60: 7165
A61: 31 Vlastiti prihodi | B61: 8772.33 | C61: 9900 | D61: 9900
A62: 50114 Pomoći iz državnog proračuna kroz opće prihode i primitke - korisnici | C62: 440 | D62: 440
A63: 50115 Pomoći iz državnog proračuna kroz opće prihode i primitke - plaće OŠ i SŠ | B63: 379246.73 | C63: 396000 | D63: 396000
A64: 5012 Pomoći kroz nacionalno sufinanciranje EU projekta | D64: 360
A65: 561 Europski socijalni fond | D65: 2050
A66: 32 Materijalni rashodi | B66: 388191.32 | C66: 644340 | D66: 707574 | E66: 707574 | F66: 707574
A67: 321 Naknade troškova zaposlenima | B67: 87595.04 | C67: 114249 | D67: 93745
A68: 11 Opći prihodi i primici | B68: 5625 | C68: 3811 | D68: 4015
A69: 31 Vlastiti prihodi | B69: 14185.21 | C69: 40000 | D69: 22000
A70: 50 Pomoći | B70: 62059.83
A71: 501122 Pomoći iz državnog proračuna kroz opće prihode i primitke - DEC SŠ | C71: 63538 | D71: 63550
A72: 50114 Pomoći iz državnog proračuna kroz opće prihode i primitke - korisnici | C72: 200 | D72: 200
A73: 5012 Pomoći kroz nacionalno sufinanciranje EU projekta | D73: 72
A74: 503 POMOĆI IZ NENADLEŽNIH PRORAČUNA - KORISNICI | B74: 40
A75: 510 Programi Unije | C75: 2700 | D75: 3500
A76: 56 Fondovi EU-a | B76: 2525
A77: 561 Europski socijalni fond | D77: 408
A78: 611 Donacije | B78: 3160 | C78: 4000
A79: 322 Rashodi za materijal i energiju | B79: 130360.52 | C79: 199439 | D79: 190800
A80: 11 Opći prihodi i primici | B80: 2626.59 | C80: 5000 | D80: 5300
A81: 31 Vlastiti prihodi | B81: 39913.96 | C81: 70000 | D81: 70000
A82: 50 Pomoći | B82: 87439
A83: 501122 Pomoći iz državnog proračuna kroz opće prihode i primitke - DEC SŠ | C83: 122939 | D83: 113000
A84: 50114 Pomoći iz državnog proračuna kroz opće prihode i primitke - korisnici | C84: 1000 | D84: 1000
A85: 503 POMOĆI IZ NENADLEŽNIH PRORAČUNA - KORISNICI | B85: 380.97
A86: 510 Programi Unije | D86: 1000
A87: 611 Donacije | C87: 500 | D87: 500
A88: 323 Rashodi za usluge | B88: 120269.15 | C88: 210450 | D88: 327480
A89: 11 Opći prihodi i primici | B89: 6046.74 | C89: 2950 | D89: 3700
A90: 31 Vlastiti prihodi | B90: 46293.35 | C90: 110000 | D90: 200000
A91: 50 Pomoći | B91: 38500
A92: 501122 Pomoći iz državnog proračuna kroz opće prihode i primitke - DEC SŠ | C92: 62000 | D92: 82780
A93: 50114 Pomoći iz državnog proračuna kroz opće prihode i primitke - korisnici | C93: 2900 | D93: 2900
A94: 50115 Pomoći iz državnog proračuna kroz opće prihode i primitke - plaće OŠ i SŠ | B94: 8143.91 | C94: 12000 | D94: 12000
A95: 503 POMOĆI IZ NENADLEŽNIH PRORAČUNA - KORISNICI | B95: 1420.65
A96: 510 Programi Unije | C96: 20500 | D96: 26000
A97: 56 Fondovi EU-a | B97: 19864.5
A98: 711 Prihodi od nefinancijske imovine i nadoknade štete s osnova osiguranja | C98: 100 | D98: 100
A99: 324 Naknade troškova osobama izvan radnog odnosa | B99: 10150 | C99: 45500 | D99: 11500
A100: 31 Vlastiti prihodi | C100: 35000
A101: 510 Programi Unije | C101: 10500 | D101: 11500
...

Sheet Rash po izvorima finan
B1: FINANCIJSKI PLAN TEHNIČKE ŠKOLE KARLOVAC ZA 2027. I PROJEKCIJA ZA 2028. I 2029. GODINU
B2: I. OPĆI DIO
B3: RASHODI PREMA IZVORIMA FINANCIRANJA
B5: Ostvarenje 2025. | C5: Plan 2026. | D5: Plan 2027. | E5: Projekcija 2028. | F5: Projekcija 2029.
A6: SVEUKUPNO | B6: 3918427.8 | C6: 6053295 | D6: ='Račun prihoda i rashoda'!D55 -> 4230136 | E6: ='Račun prihoda i rashoda'!E55 -> 3963136 | F6: ='Račun prihoda i rashoda'!F55 -> 3963136
A7: RAZDJEL: 12 Upravni odjel za društvene djelatnosti | B7: 3918427.8 | C7: 6053295 | D7: ='Račun prihoda i rashoda'!D55 -> 4230136 | E7: ='Račun prihoda i rashoda'!E55 -> 3963136 | F7: ='Račun prihoda i rashoda'!F55 -> 3963136
A8: GLAVA: 12-35 TEHNIČKA ŠKOLA KARLOVAC | B8: 3918427.8 | C8: 6053295 | D8: ='Račun prihoda i rashoda'!D55 -> 4230136 | E8: ='Račun prihoda i rashoda'!E55 -> 3963136 | F8: ='Račun prihoda i rashoda'!F55 -> 3963136
A9: izvor: 11 Opći prihodi i primici | B9: 91239.35 | C9: 99890 | D9: 154431 | E9: 69431 | F9: 69431
A10: 3 Rashodi poslovanja | B10: 15997.85 | C10: 33961 | D10: 68502 | E10: 68502 | F10: 68502
A11: 31 Rashodi za zaposlene | C11: 18600 | D11: 51687 | E11: 51687 | F11: 51687
A12: 311 Plaće (Bruto) | C12: 16000 | D12: 43422
A13: 312 Ostali rashodi za zaposlene | C13: 400 | D13: 1100
A14: 313 Doprinosi na plaće | C14: 2200 | D14: 7165
A15: 32 Materijalni rashodi | B15: 14898.33 | C15: 12361 | D15: 13815 | E15: 13815 | F15: 13815
A16: 321 Naknade troškova zaposlenima | B16: 5625 | C16: 3811 | D16: 4015
A17: 322 Rashodi za materijal i energiju | B17: 2626.59 | C17: 5000 | D17: 5300
A18: 323 Rashodi za usluge | B18: 6046.74 | C18: 2950 | D18: 3700
A19: 329 Ostali nespomenuti rashodi poslovanja | B19: 600 | C19: 600 | D19: 800
A20: 37 Naknade građanima i kućanstvima na temelju osiguranja i druge naknade | B20: 1099.52 | C20: 3000 | D20: 3000 | E20: 3000 | F20: 3000
A21: 372 Ostale naknade građanima i kućanstvima iz proračuna | B21: 1099.52 | C21: 3000 | D21: 3000
A22: 4 Rashodi za nabavu nefinancijske imovine | B22: 75241.5 | C22: 65929 | D22: 85929 | E22: 929 | F22: 929
A23: 42 Rashodi za nabavu proizvedene dugotrajne imovine | B23: 72929 | C23: 50929 | D23: 70929 | E23: 929 | F23: 929
A24: 421 Građevinski objekti | B24: 2000 | C24: 50000 | D24: 70000
A25: 422 Postrojenja i oprema | B25: 70000
A26: 424 Knjige, umjetnička djela i ostale izložbene vrijednosti | B26: 929 | C26: 929 | D26: 929
A27: 45 Rashodi za dodatna ulaganja na nefinancijskoj imovini | B27: 2312.5 | C27: 15000 | D27: 15000
A28: 451 Dodatna ulaganja na građevinskim objektima | B28: 2312.5 | C28: 15000 | D28: 15000
A29: izvor: 31 Vlastiti prihodi | B29: 243633.12 | C29: 552900 | D29: 618600 | E29: 618600 | F29: 618600
A30: 3 Rashodi poslovanja | B30: 211665.74 | C30: 411900 | D30: 458100 | E30: 458100 | F30: 458100
A31: 31 Rashodi za zaposlene | B31: 72660.22 | C31: 89900 | D31: 89900 | E31: 89900 | F31: 89900
A32: 311 Plaće (Bruto) | B32: 53165.48 | C32: 60000 | D32: 60000
A33: 312 Ostali rashodi za zaposlene | B33: 10722.41 | C33: 20000 | D33: 20000
A34: 313 Doprinosi na plaće | B34: 8772.33 | C34: 9900 | D34: 9900
A35: 32 Materijalni rashodi | B35: 137809.13 | C35: 320000 | D35: 367000 | E35: 367000 | F35: 367000
A36: 321 Naknade troškova zaposlenima | B36: 14185.21 | C36: 40000 | D36: 22000
A37: 322 Rashodi za materijal i energiju | B37: 39913.96 | C37: 70000 | D37: 70000
A38: 323 Rashodi za usluge | B38: 46293.35 | C38: 110000 | D38: 200000
A39: 324 Naknade troškova osobama izvan radnog odnosa | C39: 35000
A40: 329 Ostali nespomenuti rashodi poslovanja | B40: 37416.61 | C40: 65000 | D40: 75000
A41: 34 Financijski rashodi | B41: 1196.39 | C41: 2000 | D41: 1200 | E41: 1200 | F41: 1200
A42: 343 Ostali financijski rashodi | B42: 1196.39 | C42: 2000 | D42: 1200
A43: 4 Rashodi za nabavu nefinancijske imovine | B43: 31967.38 | C43: 141000 | D43: 160500 | E43: 160500 | F43: 160500
A44: 42 Rashodi za nabavu proizvedene dugotrajne imovine | B44: 31967.38 | C44: 91000 | D44: 90500 | E44: 90500 | F44: 90500
A45: 422 Postrojenja i oprema | B45: 31956.24 | C45: 90000 | D45: 90000
A46: 424 Knjige, umjetnička djela i ostale izložbene vrijednosti | B46: 11.14 | C46: 1000 | D46: 500
A47: 45 Rashodi za dodatna ulaganja na nefinancijskoj imovini | C47: 50000 | D47: 70000 | E47: 70000 | F47: 70000
A48: 451 Dodatna ulaganja na građevinskim objektima | C48: 50000 | D48: 70000
A49: izvor: 50 Pomoći | B49: 2978909 | C49: 3536805 | D49: 3206547 | E49: 3206547 | F49: 3206547
A50: 50112 Pomoći iz državnog proračuna kroz opće prihode i primitke - DEC | C50: 250380 | D50: 260380 | E50: 260380 | F50: 260380
A51: 3 Rashodi poslovanja | B51: 189599.75 | C51: 250380 | D51: 260380 | E51: 260380 | F51: 260380
A52: 32 Materijalni rashodi | B52: 189598.83 | C52: 250379 | D52: 260379 | E52: 260379 | F52: 260379
A53: 321 Naknade troškova zaposlenima | B53: 62059.83 | C53: 63538 | D53: 63550
A54: 322 Rashodi za materijal i energiju | B54: 87439 | C54: 122939 | D54: 113000
A55: 323 Rashodi za usluge | B55: 38500 | C55: 62000 | D55: 82780
A56: 329 Ostali nespomenuti rashodi poslovanja | B56: 1600 | C56: 1902 | D56: 1049
A57: 34 Financijski rashodi | B57: 0.92 | C57: 1 | D57: 1 | E57: 1 | F57: 1
A58: 343 Ostali financijski rashodi | B58: 0.92 | C58: 1 | D58: 1
A59: 50114 Pomoći iz državnog proračuna kroz opće prihode i primitke - korisnici | C59: 367425 | D59: 24425 | E59: 24425 | F59: 24425
A60: 3 Rashodi poslovanja | B60: 0 | C60: 360075 | D60: 10075 | E60: 10075 | F60: 10075
A61: 31 Rashodi za zaposlene | C61: 5640 | D61: 5640 | E61: 5640 | F61: 5640
A62: 311 Plaće (Bruto) | C62: 2200 | D62: 2200
A63: 312 Ostali rashodi za zaposlene | C63: 3000 | D63: 3000
A64: 313 Doprinosi na plaće | C64: 440 | D64: 440
A65: 32 Materijalni rashodi | C65: 4300 | D65: 4300 | E65: 4300 | F65: 4300
A66: 321 Naknade troškova zaposlenima | C66: 200 | D66: 200
A67: 322 Rashodi za materijal i energiju | C67: 1000 | D67: 1000
A68: 323 Rashodi za usluge | C68: 2900 | D68: 2900
A69: 329 Ostali nespomenuti rashodi poslovanja | C69: 200 | D69: 200
A70: 36 Pomoći dane u inozemstvo i unutar općeg proračuna | C70: 350000
A71: 368 POMOĆI TEMELJEM PRIJENOSA EU SREDSTAVA | C71: 350000
A72: 38 Ostali rashodi | C72: 135 | D72: 135 | E72: 135 | F72: 135
A73: 381 Tekuće donacije | C73: 135 | D73: 135
A74: 4 Rashodi za nabavu nefinancijske imovine | B74: 0 | C74: 7350 | D74: 14350 | E74: 14350 | F74: 14350
A75: 42 Rashodi za nabavu proizvedene dugotrajne imovine | C75: 7350 | D75: 14350 | E75: 14350 | F75: 14350
A76: 422 Postrojenja i oprema | C76: 6000 | D76: 13000
A77: 424 Knjige, umjetnička djela i ostale izložbene vrijednosti | C77: 1350 | D77: 1350
A78: 50115 Pomoći iz državnog proračuna kroz opće prihode i primitke - plaće OŠ i SŠ | B78: 2780288.2 | C78: 2919000 | D78: 2919000 | E78: 2919000 | F78: 2919000
A79: 3 Rashodi poslovanja | B79: 2780288.2 | C79: 2919000 | D79: 2919000 | E79: 2919000 | F79: 2919000
A80: 31 Rashodi za zaposlene | B80: 2772144.3 | C80: 2896000 | D80: 2896000 | E80: 2896000 | F80: 2896000
A81: 311 Plaće (Bruto) | B81: 2298456.9 | C81: 2400000 | D81: 2400000
A82: 312 Ostali rashodi za zaposlene | B82: 94440.74 | C82: 100000 | D82: 100000
A83: 313 Doprinosi na plaće | B83: 379246.73 | C83: 396000 | D83: 396000
A84: 32 Materijalni rashodi | B84: 8143.91 | C84: 19000 | D84: 19000 | E84: 19000 | F84: 19000
A85: 323 Rashodi za usluge | B85: 8143.91 | C85: 12000 | D85: 12000
A86: 329 Ostali nespomenuti rashodi poslovanja | C86: 7000 | D86: 7000
A87: 34 Financijski rashodi | C87: 4000 | D87: 4000 | E87: 4000 | F87: 4000
A88: 343 Ostali financijski rashodi | C88: 4000 | D88: 4000
A89: 5012 Pomoći kroz nacionalno sufinanciranje EU projekta | D89: 2742 | E89: 2742 | F89: 2742
A90: 3 Rashodi poslovanja | B90: 0 | C90: 0 | D90: 2742 | E90: 2742 | F90: 2742
A91: 31 Rashodi za zaposlene | D91: 2670 | E91: 2670 | F91: 2670
A92: 311 Plaće (Bruto) | D92: 2190
A93: 312 Ostali rashodi za zaposlene | D93: 120
A94: 313 Doprinosi na plaće | D94: 360
A95: 32 Materijalni rashodi | D95: 72 | E95: 72 | F95: 72
A96: 321 Naknade troškova zaposlenima | D96: 72
A97: 503 POMOĆI IZ NENADLEŽNIH PRORAČUNA - KORISNICI | B97: =B98+B108 -> 198620.74 | C97: 0 | D97: 0 | E97: 0 | F97: 0
A98: 3 Rashodi poslovanja | B98: 191776.37 | C98: 0 | D98: 0 | E98: 0 | F98: 0
A99: 32 Materijalni rashodi | B99: 191640.45
A100: 321 Naknade troškova zaposlenima | B100: 62099.83
A101: 322 Rashodi za materijal i energiju | B101: 87819.97
...

Sheet Rashodi prema funkcijskoj kl
B1: FINANCIJSKI PLAN TEHNIČKE ŠKOLE KARLOVAC ZA 2027. I PROJEKCIJA ZA 2028. I 2029. GODINU
B2: RASHODI PREMA FUNKCIJSKOJ KLASIFIKACIJI
B4: Ostvarenje 2025. | C4: Plan 2026. | D4: Plan 2027. | E4: Projekcija 2028. | F4: Projekcija 2029.
A5: GLAVA: 12-35 TEHNIČKA ŠKOLA KARLOVAC | B5: 3918427.8 | C5: 6053295 | D5: 4230136 | E5: 3963136 | F5: 3963136
A6: 09 OBRAZOVANJE | B6: 3918427.8 | C6: 6053295 | D6: 4230136 | E6: 3963136 | F6: 3963136
A7: 091 Predškolsko i osnovno obrazovanje | B7: 8143.91 | C7: 12000 | D7: 12000 | E7: 12000 | F7: 12000
A8: 0912 Osnovno obrazovanje | B8: 8143.91 | C8: 12000 | D8: 12000 | E8: 12000 | F8: 12000
A9: 092 Srednjoškolsko obrazovanje | B9: 2961744.1 | C9: 3157380 | D9: 3167380 | E9: 3167380 | F9: 3167380
A10: 0922 Više srednjoškolsko obrazovanje | B10: 2961744.1 | C10: 3157380 | D10: 3167380 | E10: 3167380 | F10: 3167380
A11: 096 Dodatne usluge u obrazovanju | B11: 948539.79 | C11: 2883915 | D11: 1050756 | E11: 783756 | F11: 783756
A12: 0960 Dodatne usluge u obrazovanju | B12: 948539.79 | C12: 2883915 | D12: 1050756 | E12: 783756 | F12: 783756
A13: SVEUKUPNO PRIHODI | B13: 3428493.5 | C13: 5927695 | D13: 4099549 | E13: 3936172 | F13: 3936172
A14: SVEUKUPNO RASHODI | B14: 3918427.8 | C14: 6053295 | D14: =D5 -> 4230136 | E14: =E5 -> 3963136 | F14: =F5 -> 3963136

Sheet Račun financiranja
C1: FINANCIJSKI PLAN TEHNIČKE ŠKOLE KARLOVAC ZA 2027. I PROJEKCIJA ZA 2028. I 2029. GODINU
C2: B. RAČUN FINANCIRANJA
C3: RAČUN FINANCIRANJA PREMA EKONOMSKOJ KLASIFIKACIJI
C5: Ostvarenje 2025. | D5: Plan 2026. | E5: Plan 2027. | F5: Projekcija 2028. | G5: Projekcija 2029.
A6: 8 | B6: Primici od financijske imovine i zaduživanja | C6: 0 | D6: 0 | E6: 0 | F6: 0 | G6: 0
A7: 5 | B7: Izdaci za financijsku imovinu i otplate zajmova | C7: 0 | D7: 0 | E7: 0 | F7: 0 | G7: 0

Sheet POSEBNI DIO 
B1: FINANCIJSKI PLAN TEHNIČKE ŠKOLE KARLOVAC ZA 2027. I PROJEKCIJA ZA 2028. I 2029. GODINU
C2: II POSEBNI DIO
B4: Ostvarenje 2025. | C4: Plan 2026. | D4: Plan 2027. | E4: Projekcija 2028. | F4: Projekcija 2029.
A5: SVEUKUPNO RASHODI I IZDACI | B5: 3918427.8 | C5: 6053295 | D5: ='Račun prihoda i rashoda'!D55 -> 4230136 | E5: ='Prihodi i rashodi po izvorima'!E153 -> 3963136 | F5: ='Prihodi i rashodi po izvorima'!F153 -> 3963136
A6: RAZDJEL: 12 Upravni odjel za društvene djelatnosti | B6: 3918427.8 | C6: 6053295 | D6: =D5 -> 4230136 | E6: =E5 -> 3963136 | F6: =F5 -> 3963136
A7: GLAVA: 12-35 TEHNIČKA ŠKOLA KARLOVAC | B7: 3918427.8 | C7: 6053295 | D7: =D5 -> 4230136 | E7: =E5 -> 3963136 | F7: =F5 -> 3963136
A8: 123 Zakonski standard javnih ustanova SŠ | B8: 189599.75 | C8: 250380 | D8: 260380 | E8: 260380 | F8: 260380
A9: A100037 Odgojnoobrazovno, administrativno i tehničko osoblje | B9: 54599.75 | C9: 55380 | D9: 55380 | E9: 55380 | F9: 55380
A10: Funkc. klas: 0922 Više srednjoškolsko obrazovanje | B10: 54599.75 | C10: 55380 | D10: 55380 | E10: 55380 | F10: 55380
A11: Funkc. klas: 0922 Više srednjoškolsko obrazovanje | B11: 54599.75 | C11: 55380 | D11: 55380 | E11: 55380 | F11: 55380
A12: izvor: 50 Pomoći | B12: 54599.75 | C12: 0 | D12: 0 | E12: 0 | F12: 0
A13: 321 Naknade troškova zaposlenima | B13: 5459.83
A14: 322 Rashodi za materijal i energiju | B14: 27539
A15: 323 Rashodi za usluge | B15: 20000
A16: 329 Ostali nespomenuti rashodi poslovanja | B16: 1600
A17: 343 Ostali financijski rashodi | B17: 0.92
A18: 501122 Pomoći iz državnog proračuna kroz opće prihode i primitke - DEC SŠ | C18: 55380 | D18: 55380 | E18: 55380 | F18: 55380
A19: 321 Naknade troškova zaposlenima | C19: 5538 | D19: 5550
A20: 322 Rashodi za materijal i energiju | C20: 27939 | D20: 28000
A21: 323 Rashodi za usluge | C21: 20000 | D21: 20780
A22: 329 Ostali nespomenuti rashodi poslovanja | C22: 1902 | D22: 1049
A23: 343 Ostali financijski rashodi | C23: 1 | D23: 1
A24: A100037A Odgojnoobrazovno, administrativno i tehničko osoblje - POSEBNI DIO | B24: 135000 | C24: 190000 | D24: 200000 | E24: 200000 | F24: 200000
A25: Funkc. klas: 0922 Više srednjoškolsko obrazovanje | B25: 135000 | C25: 190000 | D25: 200000 | E25: 200000 | F25: 200000
A26: Funkc. klas: 0922 Više srednjoškolsko obrazovanje | B26: 135000 | C26: 190000 | D26: 200000 | E26: 200000 | F26: 200000
A27: izvor: 50 Pomoći | B27: 135000 | C27: 0 | D27: 0 | E27: 0 | F27: 0
A28: 321 Naknade troškova zaposlenima | B28: 56600
A29: 322 Rashodi za materijal i energiju | B29: 59900
A30: 323 Rashodi za usluge | B30: 18500
A31: 501122 Pomoći iz državnog proračuna kroz opće prihode i primitke - DEC SŠ | C31: 190000 | D31: 200000 | E31: 200000 | F31: 200000
A32: 321 Naknade troškova zaposlenima | C32: 58000 | D32: 58000
A33: 322 Rashodi za materijal i energiju | C33: 95000 | D33: 85000
A34: 323 Rashodi za usluge | C34: 37000 | D34: 57000
A35: A100038 Operativni plan TIO - SŠ | B35: 0 | C35: 5000 | D35: 5000 | E35: 5000 | F35: 5000
A36: Funkc. klas: 0922 Više srednjoškolsko obrazovanje | C36: 5000 | D36: 5000 | E36: 5000 | F36: 5000
A37: Funkc. klas: 0922 Više srednjoškolsko obrazovanje | C37: 5000 | D37: 5000 | E37: 5000 | F37: 5000
A38: 501122 Pomoći iz državnog proračuna kroz opće prihode i primitke - DEC SŠ | C38: 5000 | D38: 5000 | E38: 5000 | F38: 5000
A39: 323 Rashodi za usluge | C39: 5000 | D39: 5000
A40: 125 Program javnih potreba iznad standarda - vlastiti prihodi | B40: 243633.12 | C40: 552900 | D40: 618600 | E40: 618600 | F40: 618600
A41: A100042 Javne potrebe iznad standarda-vlastiti prihodi | B41: 243633.12 | C41: 552900 | D41: 618600 | E41: 618600 | F41: 618600
A42: Funkc. klas: 0960 Dodatne usluge u obrazovanju | B42: 243633.12 | C42: 552900 | D42: 618600 | E42: 618600 | F42: 618600
A43: Funkc. klas: 0960 Dodatne usluge u obrazovanju | B43: 243633.12 | C43: 552900 | D43: 618600 | E43: 618600 | F43: 618600
A44: izvor: 31 Vlastiti prihodi | B44: 243633.12 | C44: 552900 | D44: 618600 | E44: 618600 | F44: 618600
A45: 311 Plaće (Bruto) | B45: 53165.48 | C45: 60000 | D45: 60000
A46: 312 Ostali rashodi za zaposlene | B46: 10722.41 | C46: 20000 | D46: 20000
A47: 313 Doprinosi na plaće | B47: 8772.33 | C47: 9900 | D47: 9900
A48: 321 Naknade troškova zaposlenima | B48: 14185.21 | C48: 40000 | D48: 22000
A49: 322 Rashodi za materijal i energiju | B49: 39913.96 | C49: 70000 | D49: 70000
A50: 323 Rashodi za usluge | B50: 46293.35 | C50: 110000 | D50: 200000
A51: 324 Naknade troškova osobama izvan radnog odnosa | C51: 35000
A52: 329 Ostali nespomenuti rashodi poslovanja | B52: 37416.61 | C52: 65000 | D52: 75000
A53: 343 Ostali financijski rashodi | B53: 1196.39 | C53: 2000 | D53: 1200
A54: 422 Postrojenja i oprema | B54: 31956.24 | C54: 90000 | D54: 90000
A55: 424 Knjige, umjetnička djela i ostale izložbene vrijednosti | B55: 11.14 | C55: 1000 | D55: 500
A56: 451 Dodatna ulaganja na građevinskim objektima | C56: 50000 | D56: 70000
A57: 141 Javne potrebe iznad zakonskog standarda SŠ | B57: 58386.51 | C57: 1973515 | D57: 373065 | E57: 106065 | F57: 106065
A58: A100078 Županijske javne potrebe SŠ | B58: 6941.5 | C58: 66979 | D58: 88229 | E58: 3229 | F58: 3229
A59: Funkc. klas: 0960 Dodatne usluge u obrazovanju | B59: 6941.5 | C59: 66979 | D59: 88229 | E59: 3229 | F59: 3229
A60: Funkc. klas: 0960 Dodatne usluge u obrazovanju | B60: 6941.5 | C60: 66979 | D60: 88229 | E60: 3229 | F60: 3229
A61: izvor: 11 Opći prihodi i primici | B61: 6941.5 | C61: 66979 | D61: 88229 | E61: 3229 | F61: 3229
A62: 322 Rashodi za materijal i energiju | B62: 850 | C62: 200 | D62: 500
A63: 323 Rashodi za usluge | B63: 250 | C63: 250 | D63: 1000
A64: 329 Ostali nespomenuti rashodi poslovanja | B64: 600 | C64: 600 | D64: 800
A65: 421 Građevinski objekti | B65: 2000 | C65: 50000 | D65: 70000
A66: 424 Knjige, umjetnička djela i ostale izložbene vrijednosti | B66: 929 | C66: 929 | D66: 929
A67: 451 Dodatna ulaganja na građevinskim objektima | B67: 2312.5 | C67: 15000 | D67: 15000
A68: A100142B Prihodi od nefinancijske imovine i nadoknade štete s osnova osiguranja | B68: 0 | C68: 10300 | D68: 10300 | E68: 10300 | F68: 10300
A69: Funkc. klas: 0960 Dodatne usluge u obrazovanju | C69: 10300 | D69: 10300 | E69: 10300 | F69: 10300
A70: Funkc. klas: 0960 Dodatne usluge u obrazovanju | C70: 10300 | D70: 10300 | E70: 10300 | F70: 10300
A71: 711 Prihodi od nefinancijske imovine i nadoknade štete s osnova osiguranja | B71: 0 | C71: 10300 | D71: 10300 | E71: 10300 | F71: 10300
A72: 323 Rashodi za usluge | C72: 100 | D72: 100
A73: 422 Postrojenja i oprema | C73: 10000 | D73: 10000
A74: 424 Knjige, umjetnička djela i ostale izložbene vrijednosti | C74: 200 | D74: 200
A75: A100159A Javne potrebe iznad standarda - donacije | B75: 3160 | C75: 4700 | D75: 700 | E75: 700 | F75: 700
A76: Funkc. klas: 0960 Dodatne usluge u obrazovanju | B76: 3160 | C76: 4700 | D76: 700 | E76: 700 | F76: 700
A77: Funkc. klas: 0960 Dodatne usluge u obrazovanju | B77: 3160 | C77: 4700 | D77: 700 | E77: 700 | F77: 700
A78: 611 Donacije | B78: 3160 | C78: 4700 | D78: 700 | E78: 700 | F78: 700
A79: 321 Naknade troškova zaposlenima | B79: 3160 | C79: 4000
A80: 322 Rashodi za materijal i energiju | C80: 500 | D80: 500
A81: 424 Knjige, umjetnička djela i ostale izložbene vrijednosti | C81: 200 | D81: 200
A82: A100162A Prijenos sredstava od nenadležnih proračuna | B82: 9020.99 | C82: 17425 | D82: 24425 | E82: 24425 | F82: 24425
A83: Funkc. klas: 0960 Dodatne usluge u obrazovanju | B83: 9020.99 | C83: 17425 | D83: 24425 | E83: 24425 | F83: 24425
A84: Funkc. klas: 0960 Dodatne usluge u obrazovanju | B84: 9020.99 | C84: 17425 | D84: 24425 | E84: 24425 | F84: 24425
A85: 50114 Pomoći iz državnog proračuna kroz opće prihode i primitke - korisnici | C85: 17425 | D85: 24425 | E85: 24425 | F85: 24425
A86: 311 Plaće (Bruto) | C86: 2200 | D86: 2200
A87: 312 Ostali rashodi za zaposlene | C87: 3000 | D87: 3000
A88: 313 Doprinosi na plaće | C88: 440 | D88: 440
A89: 321 Naknade troškova zaposlenima | C89: 200 | D89: 200
A90: 322 Rashodi za materijal i energiju | C90: 1000 | D90: 1000
A91: 323 Rashodi za usluge | C91: 2900 | D91: 2900
A92: 329 Ostali nespomenuti rashodi poslovanja | C92: 200 | D92: 200
A93: 381 Tekuće donacije | C93: 135 | D93: 135
A94: 422 Postrojenja i oprema | C94: 6000 | D94: 13000
A95: 424 Knjige, umjetnička djela i ostale izložbene vrijednosti | C95: 1350 | D95: 1350
A96: 503 POMOĆI IZ NENADLEŽNIH PRORAČUNA - KORISNICI | B96: 9020.99 | C96: 0 | D96: 0 | E96: 0 | F96: 0
A97: 321 Naknade troškova zaposlenima | B97: 40
A98: 322 Rashodi za materijal i energiju | B98: 380.97
A99: 323 Rashodi za usluge | B99: 1420.65
A100: 329 Ostali nespomenuti rashodi poslovanja | B100: 200
A101: 381 Tekuće donacije | B101: 135
...
