Workbook

Sheet SAŽETAK
A1: FINANCIJSKI PLAN TEHNIČKE ŠKOLE KARLOVAC ZA 2027. I PROJEKCIJA ZA 2028. I 2029. GODINU
A3: I. OPĆI DIO
A5: A) SAŽETAK RAČUNA PRIHODA I RASHODA
F7: Ostvarenje 2025. | G7: Plan 2026. | H7: Plan 2027. | I7: Projekcija 2028. | J7: Projekcija 2029.
A8: PRIHODI UKUPNO | F8: =SUM(F9:F10) -> 3428493.5 | G8: =SUM(G9:G10) -> 5927695 | H8: =SUM(H9:H10) -> 4099549 | I8: =SUM(I9:I10) -> 3963136 | J8: =SUM(J9:J10) -> 3963136
A9: PRIHODI POSLOVANJA | F9: 3428493.5 | G9: 5927395 | H9: 4089249 | I9: 3952836 | J9: 3952836
A10: PRIHODI OD PRODAJE NEFINANCIJSKE IMOVINE | F10: 0 | G10: 300 | H10: 10300 | I10: 10300 | J10: 10300
A11: RASHODI UKUPNO | F11: =F13+F12 -> 3918427.8 | G11: =G13+G12 -> 6053295 | H11: =H13+H12 -> 4230136 | I11: =I13+I12 -> 3963136 | J11: =J13+J12 -> 3963136
A12: RASHODI POSLOVANJA | F12: 3804374.5 | G12: 4013616 | H12: 3776957 | I12: 3776957 | J12: 3776957
A13: RASHODI ZA NABAVU NEFINANCIJSKE IMOVINE | F13: 114053.25 | G13: 2039679 | H13: 453179 | I13: 186179 | J13: 186179
A14: RAZLIKA - VIŠAK / MANJAK | F14: =SUM(F8-F11) -> -489934.26 | G14: =SUM(G8-G11) -> -125600 | H14: =SUM(H8-H11) -> -130587 | I14: =SUM(I8-I11) -> 0 | J14: =SUM(J8-J11) -> 0
A16: B) SAŽETAK RAČUNA FINANCIRANJA
F18: Ostvarenje 2025. | G18: Plan 2026. | H18: Plan 2027. | I18: Projekcija 2028. | J18: Projekcija 2029.
A19: PRIMICI OD FINANCIJSKE IMOVINE I ZADUŽIVANJA | F19: 0 | G19: 0 | H19: 0 | I19: 0 | J19: 0
A20: IZDACI ZA FINANCIJSKU IMOVINU I OTPLATE ZAJMOVA | F20: 0 | G20: 0 | H20: 0 | I20: 0 | J20: 0
A21: NETO FINANCIRANJE | F21: 0 | G21: 0 | H21: 0 | I21: 0 | J21: 0
A23: C) PRENESENI VIŠAK ILI PRENESENI MANJAK I VIŠEGODIŠNJI PLAN URAVNOTEŽENJA
F25: Ostvarenje 2025. | G25: Plan 2026. | H25: Plan 2027. | I25: Projekcija 2028. | J25: Projekcija 2029.
A26: UKUPAN DONOS VIŠKA / MANJKA IZ PRETHODNE(IH) GODINE*** | H26: 130587
A27: VIŠAK / MANJAK IZ PRETHODNE(IH) GODINE KOJI ĆE SE RASPOREDITI / POKRITI | F27: 489934.26 | G27: 125600 | H27: 0 | I27: 0 | J27: 0

Sheet Račun prihoda i rashoda
B1: FINANCIJSKI PLAN TEHNIČKE ŠKOLE KARLOVAC ZA 2027. I PROJEKCIJA ZA 2028. I 2029. GODINU
B2: I. OPĆI DIO
B3: PRIHODI I RASHODI PREMA EKONOMSKOJ KLASIFIKACIJI
B5: Ostvarenje 2025. | C5: Plan 2026. | D5: Plan 2027. | E5: Projekcija 2028. | F5: Projekcija 2029.
A6: A. RAČUN PRIHODA I RASHODA
A7: 6 Prihodi poslovanja | B7: 3428493.5 | C7: 5927395 | D7: 4089249 | E7: 3952836 | F7: 3952836
A8: 63 Pomoći iz inozemstva i od subjekata unutar općeg proračuna | B8: 2846654.1 | C8: 5135125 | D8: 3136838 | E8: 2985425 | F8: 2985425
A9: 636 Pomoći proračunskim korisnicima iz proračuna koji im nije nadležan | B9: 2571649.8 | C9: 3286425 | D9: 2943425
A10: 638 Pomoći temeljem prijenosa EU sredstava | B10: 275004.24 | C10: 1848700 | D10: 193413
A11: 64 Prihodi od imovine | B11: 134.21 | C11: 700 | D11: 1200 | E11: 1200 | F11: 1200
A12: 641 Prihodi od financijske imovine | B12: 134.21 | C12: 700 | D12: 1200
A13: 65 Prihodi od upravnih i administrativnih pristojbi, pristojbi po posebnim propisima i naknada | B13: 3599.67 | C13: 10600
A14: 652 Prihodi po posebnim propisima | B14: 3599.67 | C14: 10600
A15: 66 Prihodi od prodaje proizvoda i robe te pruženih usluga i prihodi od donacija te povrati po protestiranim jamstvima | B15: 300122.35 | C15: 404700 | D15: 443100 | E15: 543100 | F15: 543100 | M15: A
A16: 661 Prihodi od prodaje proizvoda i robe te pruženih usluga | B16: 300122.35 | C16: 400000 | D16: 442400
A17: 663 Donacije od pravnih i fizičkih osoba izvan općeg proračuna i povrat donacija po protestiranim jamstvima | C17: 4700 | D17: 700
A18: 67 Prihodi iz nadležnog proračuna i od HZZO-a temeljem ugovornih obveza | B18: 274247.56 | C18: 350270 | D18: 433111 | E18: 348111 | F18: 348111
A19: 671 Prihodi iz nadležnog proračuna za financiranje redovne djelatnosti proračunskih korisnika | B19: 274247.56 | C19: 350270 | D19: 433111
A20: 68 Kazne, upravne mjere i ostali prihodi | B20: 3735.66 | C20: 26000 | D20: 75000 | E20: 75000 | F20: 75000
A21: 683 Ostali prihodi | B21: 3735.66 | C21: 26000 | D21: 75000
A22: 7 Prihodi od prodaje nefinancijske imovine | C22: 300 | D22: 10300 | E22: 10300 | F22: 10300
A23: 72 Prihodi od prodaje proizvedene dugotrajne imovine | C23: 300 | D23: 10300 | E23: 10300 | F23: 10300
A24: 721 Prihodi od prodaje građevinskih objekata | C24: 300 | D24: 300
A25: 722 Prihodi od prodaje postrojenja i opreme | D25: 10000
A26: SVEUKUPNO PRIHODI | B26: 3428493.5 | C26: 5927695 | D26: 4099549 | E26: 3963136 | F26: 3963136
A27: 3 Rashodi poslovanja | B27: 3804374.5 | C27: 4013616 | D27: 3776957 | E27: 3776957 | F27: 3776957
A28: 31 Rashodi za zaposlene | B28: 2844804.5 | C28: 3010140 | D28: 3061047 | E28: 3061047 | F28: 3061047
A29: 311 Plaće (Bruto) | B29: 2351622.3 | C29: 2478200 | D29: 2520232
A30: 312 Ostali rashodi za zaposlene | B30: 105163.15 | C30: 123400 | D30: 124900
A31: 313 Doprinosi na plaće | B31: 388019.06 | C31: 408540 | D31: 415915
A32: 32 Materijalni rashodi | B32: 388191.32 | C32: 644340 | D32: 707574 | E32: 707574 | F32: 707574
A33: 321 Naknade troškova zaposlenima | B33: 87595.04 | C33: 114249 | D33: 93745
A34: 322 Rashodi za materijal i energiju | B34: 130360.52 | C34: 199439 | D34: 190800
A35: 323 Rashodi za usluge | B35: 120269.15 | C35: 210450 | D35: 327480
A36: 324 Naknade troškova osobama izvan radnog odnosa | B36: 10150 | C36: 45500 | D36: 11500
A37: 329 Ostali nespomenuti rashodi poslovanja | B37: 39816.61 | C37: 74702 | D37: 84049
A38: 34 Financijski rashodi | B38: 1197.31 | C38: 6001 | D38: 5201 | E38: 5201 | F38: 5201
A39: 343 Ostali financijski rashodi | B39: 1197.31 | C39: 6001 | D39: 5201
A40: 35 Subvencije | B40: 8998.51
A41: 353 Subvencije trgovačkim društvima, zadrugama, poljoprivrednicima i obrtnicima iz EU sredstava | B41: 8998.51
...

Sheet Prihodi i rashodi po izvorima
B1: FINANCIJSKI PLAN TEHNIČKE ŠKOLE KARLOVAC ZA 2027. I PROJEKCIJA ZA 2028. I 2029. GODINU
B2: I. OPĆI DIO
B3: PRIHODI I RASHODI PREMA IZVORIMA FINANCIRANJA
B5: Ostvarenje 2025. | C5: Plan 2026. | D5: Plan 2027. | E5: Projekcija 2028. | F5: Projekcija 2029.
A6: A. RAČUN PRIHODA I RASHODA
A7: 6 Prihodi poslovanja | B7: 3428493.5 | C7: 5927395 | D7: 4089249 | E7: 3952836 | F7: 3952836
A8: 63 Pomoći iz inozemstva i od subjekata unutar općeg proračuna | B8: 2846654.1 | C8: 5135125 | D8: 3136838 | E8: 2985425 | F8: 2985425
A9: 636 Pomoći proračunskim korisnicima iz proračuna koji im nije nadležan | B9: 2571649.8 | C9: 3286425 | D9: 2943425
A10: 50114 Pomoći iz državnog proračuna kroz opće prihode i primitke - korisnici | C10: 367425 | D10: 24425
A11: 50115 Pomoći iz državnog proračuna kroz opće prihode i primitke - plaće OŠ i SŠ | B11: 2568687.8 | C11: 2919000 | D11: 2919000
A12: 503 POMOĆI IZ NENADLEŽNIH PRORAČUNA - KORISNICI | B12: 2962.06
A13: 638 Pomoći temeljem prijenosa EU sredstava | B13: 275004.24 | C13: 1848700 | D13: 193413
A14: 510 Programi Unije | C14: 33700 | D14: 11413
A15: 56 Fondovi EU-a | B15: 275004.24
A16: 581 Nacionalni plan oporavka i otpornosti – Mehanizam za oporavak i otpornost (bespovratna sredstva) | C16: 1815000 | D16: 182000
A17: 64 Prihodi od imovine | B17: 134.21 | C17: 700 | D17: 1200 | E17: 1200 | F17: 1200
A18: 641 Prihodi od financijske imovine | B18: 134.21 | C18: 700 | D18: 1200
A19: 31 Vlastiti prihodi | B19: 134.21 | C19: 700 | D19: 1200
A20: 65 Prihodi od upravnih i administrativnih pristojbi, pristojbi po posebnim propisima i naknada | B20: 3599.67 | C20: 10600
A21: 652 Prihodi po posebnim propisima | B21: 3599.67 | C21: 10600
A22: 31 Vlastiti prihodi | B22: 3599.67 | C22: 10600
A23: 66 Prihodi od prodaje proizvoda i robe te pruženih usluga i prihodi od donacija te povrati po protestiranim jamstvima | B23: 300122.35 | C23: 404700 | D23: 443100 | E23: 543100 | F23: 543100
A24: 661 Prihodi od prodaje proizvoda i robe te pruženih usluga | B24: 300122.35 | C24: 400000 | D24: 442400
A25: 31 Vlastiti prihodi | B25: 300122.35 | C25: 400000 | D25: 442400
A26: 663 Donacije od pravnih i fizičkih osoba izvan općeg proračuna i povrat donacija po protestiranim jamstvima | C26: 4700 | D26: 700
A27: 611 Donacije | C27: 4700 | D27: 700
A28: 67 Prihodi iz nadležnog proračuna i od HZZO-a temeljem ugovornih obveza | B28: 274247.56 | C28: 350270 | D28: 433111 | E28: 348111 | F28: 348111
A29: 671 Prihodi iz nadležnog proračuna za financiranje redovne djelatnosti proračunskih korisnika | B29: 274247.56 | C29: 350270 | D29: 433.111,00,
A30: 11 Opći prihodi i primici | B30: 91239.35 | C30: 99890 | D30: 154431
A31: 501122 Pomoći iz državnog proračuna kroz opće prihode i primitke - DEC SŠ | C31: 250380 | D31: 260380
A32: 5012 Pomoći kroz nacionalno sufinanciranje EU projekta | D32: 2742
A33: 561 Europski socijalni fond | D33: 15558
A34: 68 Kazne, upravne mjere i ostali prihodi | B34: 3735.66 | C34: 26000 | D34: 75000 | E34: 75000 | F34: 75000
A35: 683 Ostali prihodi | B35: 3735.66 | C35: 26000 | D35: 75000
A36: 31 Vlastiti prihodi | B36: 3735.66 | C36: 26000 | D36: 75000
A37: 7 Prihodi od prodaje nefinancijske imovine | C37: 300 | D37: 10300 | E37: 10300 | F37: 10300
A38: 72 Prihodi od prodaje proizvedene dugotrajne imovine | C38: 300 | D38: 10300 | E38: 10300 | F38: 10300
A39: 721 Prihodi od prodaje građevinskih objekata | C39: 300 | D39: 300
A40: 722 Prihodi od prodaje postrojenja i opreme | D40: 10000
A41: 711 Prihodi od nefinancijske imovine i nadoknade štete s osnova osiguranja | D41: 10300
...

Sheet Rash po izvorima finan
B1: FINANCIJSKI PLAN TEHNIČKE ŠKOLE KARLOVAC ZA 2027. I PROJEKCIJA ZA 2028. I 2029. GODINU
B2: I. OPĆI DIO
B3: RASHODI PREMA IZVORIMA FINANCIRANJA
B5: Ostvarenje 2025. | C5: Plan 2026. | D5: Plan 2027. | E5: Projekcija 2028. | F5: Projekcija 2029.
A6: SVEUKUPNO | B6: 3918427.8 | C6: 6053295 | D6: ='Račun prihoda i rashoda'!D55 -> 4230136 | E6: ='Račun prihoda i rashoda'!E55 -> 3963136 | F6: ='Račun prihoda i rashoda'!F55 -> 3963136
A7: RAZDJEL: 12 Upravni odjel za društvene djelatnosti | B7: 3918427.8 | C7: 6053295 | D7: ='Račun prihoda i rashoda'!D55 -> 4230136 | E7: ='Račun prihoda i rashoda'!E55 -> 3963136 | F7: ='Račun prihoda i rashoda'!F55 -> 3963136
A8: GLAVA: 12-35 TEHNIČKA ŠKOLA KARLOVAC | B8: 3918427.8 | C8: 6053295 | D8: ='Račun prihoda i rashoda'!D55 -> 4230136 | E8: ='Račun prihoda i rashoda'!E55 -> 3963136 | F8: ='Račun prihoda i rashoda'!F55 -> 3963136
A9: izvor: 11 Opći prihodi i primici | B9: 91239.35 | C9: 99890 | D9: 154431 | E9: 69431 | F9: 69431
A10: 3 Rashodi poslovanja | B10: 15997.85 | C10: 33961 | D10: 68502 | E10: 68502 | F10: 68502
A11: 31 Rashodi za zaposlene | C11: 18600 | D11: 51687 | E11: 51687 | F11: 51687
A12: 311 Plaće (Bruto) | C12: 16000 | D12: 43422
A13: 312 Ostali rashodi za zaposlene | C13: 400 | D13: 1100
A14: 313 Doprinosi na plaće | C14: 2200 | D14: 7165
A15: 32 Materijalni rashodi | B15: 14898.33 | C15: 12361 | D15: 13815 | E15: 13815 | F15: 13815
A16: 321 Naknade troškova zaposlenima | B16: 5625 | C16: 3811 | D16: 4015
A17: 322 Rashodi za materijal i energiju | B17: 2626.59 | C17: 5000 | D17: 5300
A18: 323 Rashodi za usluge | B18: 6046.74 | C18: 2950 | D18: 3700
A19: 329 Ostali nespomenuti rashodi poslovanja | B19: 600 | C19: 600 | D19: 800
A20: 37 Naknade građanima i kućanstvima na temelju osiguranja i druge naknade | B20: 1099.52 | C20: 3000 | D20: 3000 | E20: 3000 | F20: 3000
A21: 372 Ostale naknade građanima i kućanstvima iz proračuna | B21: 1099.52 | C21: 3000 | D21: 3000
A22: 4 Rashodi za nabavu nefinancijske imovine | B22: 75241.5 | C22: 65929 | D22: 85929 | E22: 929 | F22: 929
A23: 42 Rashodi za nabavu proizvedene dugotrajne imovine | B23: 72929 | C23: 50929 | D23: 70929 | E23: 929 | F23: 929
A24: 421 Građevinski objekti | B24: 2000 | C24: 50000 | D24: 70000
A25: 422 Postrojenja i oprema | B25: 70000
A26: 424 Knjige, umjetnička djela i ostale izložbene vrijednosti | B26: 929 | C26: 929 | D26: 929
A27: 45 Rashodi za dodatna ulaganja na nefinancijskoj imovini | B27: 2312.5 | C27: 15000 | D27: 15000
A28: 451 Dodatna ulaganja na građevinskim objektima | B28: 2312.5 | C28: 15000 | D28: 15000
A29: izvor: 31 Vlastiti prihodi | B29: 243633.12 | C29: 552900 | D29: 618600 | E29: 618600 | F29: 618600
A30: 3 Rashodi poslovanja | B30: 211665.74 | C30: 411900 | D30: 458100 | E30: 458100 | F30: 458100
A31: 31 Rashodi za zaposlene | B31: 72660.22 | C31: 89900 | D31: 89900 | E31: 89900 | F31: 89900
A32: 311 Plaće (Bruto) | B32: 53165.48 | C32: 60000 | D32: 60000
A33: 312 Ostali rashodi za zaposlene | B33: 10722.41 | C33: 20000 | D33: 20000
A34: 313 Doprinosi na plaće | B34: 8772.33 | C34: 9900 | D34: 9900
A35: 32 Materijalni rashodi | B35: 137809.13 | C35: 320000 | D35: 367000 | E35: 367000 | F35: 367000
A36: 321 Naknade troškova zaposlenima | B36: 14185.21 | C36: 40000 | D36: 22000
A37: 322 Rashodi za materijal i energiju | B37: 39913.96 | C37: 70000 | D37: 70000
A38: 323 Rashodi za usluge | B38: 46293.35 | C38: 110000 | D38: 200000
A39: 324 Naknade troškova osobama izvan radnog odnosa | C39: 35000
A40: 329 Ostali nespomenuti rashodi poslovanja | B40: 37416.61 | C40: 65000 | D40: 75000
A41: 34 Financijski rashodi | B41: 1196.39 | C41: 2000 | D41: 1200 | E41: 1200 | F41: 1200
...

Sheet Rashodi prema funkcijskoj kl
B1: FINANCIJSKI PLAN TEHNIČKE ŠKOLE KARLOVAC ZA 2027. I PROJEKCIJA ZA 2028. I 2029. GODINU
B2: RASHODI PREMA FUNKCIJSKOJ KLASIFIKACIJI
B4: Ostvarenje 2025. | C4: Plan 2026. | D4: Plan 2027. | E4: Projekcija 2028. | F4: Projekcija 2029.
A5: GLAVA: 12-35 TEHNIČKA ŠKOLA KARLOVAC | B5: 3918427.8 | C5: 6053295 | D5: 4230136 | E5: 3963136 | F5: 3963136
A6: 09 OBRAZOVANJE | B6: 3918427.8 | C6: 6053295 | D6: 4230136 | E6: 3963136 | F6: 3963136
A7: 091 Predškolsko i osnovno obrazovanje | B7: 8143.91 | C7: 12000 | D7: 12000 | E7: 12000 | F7: 12000
A8: 0912 Osnovno obrazovanje | B8: 8143.91 | C8: 12000 | D8: 12000 | E8: 12000 | F8: 12000
A9: 092 Srednjoškolsko obrazovanje | B9: 2961744.1 | C9: 3157380 | D9: 3167380 | E9: 3167380 | F9: 3167380
A10: 0922 Više srednjoškolsko obrazovanje | B10: 2961744.1 | C10: 3157380 | D10: 3167380 | E10: 3167380 | F10: 3167380
A11: 096 Dodatne usluge u obrazovanju | B11: 948539.79 | C11: 2883915 | D11: 1050756 | E11: 783756 | F11: 783756
A12: 0960 Dodatne usluge u obrazovanju | B12: 948539.79 | C12: 2883915 | D12: 1050756 | E12: 783756 | F12: 783756
A13: SVEUKUPNO PRIHODI | B13: 3428493.5 | C13: 5927695 | D13: 4099549 | E13: 3936172 | F13: 3936172
A14: SVEUKUPNO RASHODI | B14: 3918427.8 | C14: 6053295 | D14: =D5 -> 4230136 | E14: =E5 -> 3963136 | F14: =F5 -> 3963136

Sheet Račun financiranja
C1: FINANCIJSKI PLAN TEHNIČKE ŠKOLE KARLOVAC ZA 2027. I PROJEKCIJA ZA 2028. I 2029. GODINU
C2: B. RAČUN FINANCIRANJA
C3: RAČUN FINANCIRANJA PREMA EKONOMSKOJ KLASIFIKACIJI
C5: Ostvarenje 2025. | D5: Plan 2026. | E5: Plan 2027. | F5: Projekcija 2028. | G5: Projekcija 2029.
A6: 8 | B6: Primici od financijske imovine i zaduživanja | C6: 0 | D6: 0 | E6: 0 | F6: 0 | G6: 0
A7: 5 | B7: Izdaci za financijsku imovinu i otplate zajmova | C7: 0 | D7: 0 | E7: 0 | F7: 0 | G7: 0

Sheet POSEBNI DIO 
B1: FINANCIJSKI PLAN TEHNIČKE ŠKOLE KARLOVAC ZA 2027. I PROJEKCIJA ZA 2028. I 2029. GODINU
C2: II POSEBNI DIO
B4: Ostvarenje 2025. | C4: Plan 2026. | D4: Plan 2027. | E4: Projekcija 2028. | F4: Projekcija 2029.
A5: SVEUKUPNO RASHODI I IZDACI | B5: 3918427.8 | C5: 6053295 | D5: ='Račun prihoda i rashoda'!D55 -> 4230136 | E5: ='Prihodi i rashodi po izvorima'!E153 -> 3963136 | F5: ='Prihodi i rashodi po izvorima'!F153 -> 3963136
A6: RAZDJEL: 12 Upravni odjel za društvene djelatnosti | B6: 3918427.8 | C6: 6053295 | D6: =D5 -> 4230136 | E6: =E5 -> 3963136 | F6: =F5 -> 3963136
A7: GLAVA: 12-35 TEHNIČKA ŠKOLA KARLOVAC | B7: 3918427.8 | C7: 6053295 | D7: =D5 -> 4230136 | E7: =E5 -> 3963136 | F7: =F5 -> 3963136
A8: 123 Zakonski standard javnih ustanova SŠ | B8: 189599.75 | C8: 250380 | D8: 260380 | E8: 260380 | F8: 260380
A9: A100037 Odgojnoobrazovno, administrativno i tehničko osoblje | B9: 54599.75 | C9: 55380 | D9: 55380 | E9: 55380 | F9: 55380
A10: Funkc. klas: 0922 Više srednjoškolsko obrazovanje | B10: 54599.75 | C10: 55380 | D10: 55380 | E10: 55380 | F10: 55380
A11: Funkc. klas: 0922 Više srednjoškolsko obrazovanje | B11: 54599.75 | C11: 55380 | D11: 55380 | E11: 55380 | F11: 55380
A12: izvor: 50 Pomoći | B12: 54599.75 | C12: 0 | D12: 0 | E12: 0 | F12: 0
A13: 321 Naknade troškova zaposlenima | B13: 5459.83
A14: 322 Rashodi za materijal i energiju | B14: 27539
A15: 323 Rashodi za usluge | B15: 20000
A16: 329 Ostali nespomenuti rashodi poslovanja | B16: 1600
A17: 343 Ostali financijski rashodi | B17: 0.92
A18: 501122 Pomoći iz državnog proračuna kroz opće prihode i primitke - DEC SŠ | C18: 55380 | D18: 55380 | E18: 55380 | F18: 55380
A19: 321 Naknade troškova zaposlenima | C19: 5538 | D19: 5550
A20: 322 Rashodi za materijal i energiju | C20: 27939 | D20: 28000
A21: 323 Rashodi za usluge | C21: 20000 | D21: 20780
A22: 329 Ostali nespomenuti rashodi poslovanja | C22: 1902 | D22: 1049
A23: 343 Ostali financijski rashodi | C23: 1 | D23: 1
A24: A100037A Odgojnoobrazovno, administrativno i tehničko osoblje - POSEBNI DIO | B24: 135000 | C24: 190000 | D24: 200000 | E24: 200000 | F24: 200000
A25: Funkc. klas: 0922 Više srednjoškolsko obrazovanje | B25: 135000 | C25: 190000 | D25: 200000 | E25: 200000 | F25: 200000
A26: Funkc. klas: 0922 Više srednjoškolsko obrazovanje | B26: 135000 | C26: 190000 | D26: 200000 | E26: 200000 | F26: 200000
A27: izvor: 50 Pomoći | B27: 135000 | C27: 0 | D27: 0 | E27: 0 | F27: 0
A28: 321 Naknade troškova zaposlenima | B28: 56600
A29: 322 Rashodi za materijal i energiju | B29: 59900
A30: 323 Rashodi za usluge | B30: 18500
A31: 501122 Pomoći iz državnog proračuna kroz opće prihode i primitke - DEC SŠ | C31: 190000 | D31: 200000 | E31: 200000 | F31: 200000
A32: 321 Naknade troškova zaposlenima | C32: 58000 | D32: 58000
A33: 322 Rashodi za materijal i energiju | C33: 95000 | D33: 85000
A34: 323 Rashodi za usluge | C34: 37000 | D34: 57000
A35: A100038 Operativni plan TIO - SŠ | B35: 0 | C35: 5000 | D35: 5000 | E35: 5000 | F35: 5000
A36: Funkc. klas: 0922 Više srednjoškolsko obrazovanje | C36: 5000 | D36: 5000 | E36: 5000 | F36: 5000
A37: Funkc. klas: 0922 Više srednjoškolsko obrazovanje | C37: 5000 | D37: 5000 | E37: 5000 | F37: 5000
A38: 501122 Pomoći iz državnog proračuna kroz opće prihode i primitke - DEC SŠ | C38: 5000 | D38: 5000 | E38: 5000 | F38: 5000
A39: 323 Rashodi za usluge | C39: 5000 | D39: 5000
A40: 125 Program javnih potreba iznad standarda - vlastiti prihodi | B40: 243633.12 | C40: 552900 | D40: 618600 | E40: 618600 | F40: 618600
A41: A100042 Javne potrebe iznad standarda-vlastiti prihodi | B41: 243633.12 | C41: 552900 | D41: 618600 | E41: 618600 | F41: 618600
...
